BEGIN:VCALENDAR
VERSION:2.0
METHOD:PUBLISH
PRODID::-//Obvius//NONSGML ICal//DA
BEGIN:VEVENT
UID:4913333@qdev.nbi.ku.dk
DESCRIPTION:Title: Optically induced excitonic shifts in transition metal 
 dichalcogenide monolayers\n\nhttps://qdev.nbi.ku.dk/calender/condensed-mat
 ter-seminar-series/seminar-by-prof.-tom-novotn/
SUMMARY:Seminar by Prof. Tomá&#353\; Novotný
CATEGORIES:Seminar
LOCATION:Aud 10\, HCØ
ORGANIZER:Jens Paaske
DTSTART:20250408T120000Z
DTSTAMP:20250408T120000Z
END:VEVENT
END:VCALENDAR
