BEGIN:VCALENDAR
VERSION:2.0
METHOD:PUBLISH
PRODID::-//Obvius//NONSGML ICal//DA
BEGIN:VEVENT
UID:4645368@qdev.nbi.ku.dk
DESCRIPTION:Flat bands and superconductivity in graphene-based systems\n\n
 https://qdev.nbi.ku.dk/calender/condensed-matter-seminar-series/seminar-by
 -annica-black-schaffer/
SUMMARY:Seminar by Annica Black-Schaffer
LOCATION:NBB\, room 02.2.I.158
ORGANIZER:Brian M. Andersen
DTSTART:20240212T150000Z
DTSTAMP:20240212T150000Z
END:VEVENT
END:VCALENDAR
