BEGIN:VCALENDAR
VERSION:2.0
METHOD:PUBLISH
PRODID::-//Obvius//NONSGML ICal//DA
BEGIN:VEVENT
UID:4778390@qdev.nbi.ku.dk
DESCRIPTION:Development of a reusable optically stimulated luminescence do
 simeter and simple solar cell readout system for photon beam radiotherapy\
 n\nhttps://qdev.nbi.ku.dk/calender/2024/masters-defense-soeren-simonsen-an
 d-frederik-gudme/
SUMMARY:Master's Defense: Søren Simonsen and Frederik Gudme
LOCATION:AUD D\, Blegdamsvej 17
ORGANIZER:Heloisa Nunes Bordallo
DTSTART:20240820T093000Z
DTSTAMP:20240820T093000Z
END:VEVENT
END:VCALENDAR
