BEGIN:VCALENDAR
VERSION:2.0
METHOD:PUBLISH
PRODID::-//Obvius//NONSGML ICal//DA
BEGIN:VEVENT
UID:4718270@qdev.nbi.ku.dk
DESCRIPTION:Temperature and crowding effects on casein micelle diffusion -
  possibilities and limitations of Dynamic Light Scattering\n\nhttps://qdev
 .nbi.ku.dk/calender/2024/bachelors-defense-maja-krger-lindholm/
SUMMARY:Bachelor's defense: Maja Krüger Lindholm
LOCATION:AUD 7\, HCØ
ORGANIZER:Heloisa Bordallo (KU)\, and Tilo Seydel (ILL)
DTSTART:20240621T080000Z
DTSTAMP:20240621T080000Z
END:VEVENT
END:VCALENDAR
